BEGIN:VCALENDAR
CALSCALE:GREGORIAN
VERSION:2.0
PRODID:-//Elixir ICalendar//Mobilizon 2.1.0//EN
BEGIN:VEVENT
CATEGORIES:e-learning,TUWEL
DESCRIPTION:Das TUWEL Team der TU Wien möchte StudienbeginnerInnen und Studieninteressierten TUWEL - die zentrale E-Learning Plattform der TU Wien - vorstellen. Während einer kurzen Einführungsveranstaltung werden die wichtigsten Informationen und Funktionen von TUWEL präsentiert:    - Was ist TUWEL eigentlich?    - Wie logge ich mich ein?    - Was kann ich mit TUWEL alles machen?    - Welche Lehrveranstaltungen werden durch einen TUWEL Kurs unterstützt?    - Wie nehme ich an einem E-Learning Kurs in TUWEL teil?
DTEND;TZID=Europe/Vienna:20221004T163000
DTSTAMP:20260419T132316Z
DTSTART;TZID=Europe/Vienna:20221004T160000
ORGANIZER:TUWEL - zentrale Lernplattform der TU Wien
SUMMARY:Mein Start mit TUWEL (Termin 1, deutsch)
UID:8286597d-bd8d-4a59-868d-79d0f485f973
URL:https://events.htu.at/events/8286597d-bd8d-4a59-868d-79d0f485f973
END:VEVENT
BEGIN:VEVENT
CATEGORIES:TUWEL,e-learning
DESCRIPTION:Those just starting their courses and prospective students are introduced to TUWEL — the central e-learning platform of TU Wien — by the TUWEL team. The most important TUWEL information and functions are presented during a short introductory event:    - What is TUWEL?    - How do I log in?    - What can I do with TUWEL?    - Which courses are supported by a TUWEL course?    - How do I take part in an e-learning course in TUWEL?
DTEND;TZID=Europe/Vienna:20221005T163000
DTSTAMP:20260419T132316Z
DTSTART;TZID=Europe/Vienna:20221005T160000
ORGANIZER:TUWEL - zentrale Lernplattform der TU Wien
SUMMARY:Getting started with TUWEL (date 2, english)
UID:3d3bf853-31c9-4d65-8c38-156687ca034a
URL:https://events.htu.at/events/3d3bf853-31c9-4d65-8c38-156687ca034a
END:VEVENT
BEGIN:VEVENT
CATEGORIES:e-learning,TUWEL
DESCRIPTION:Those just starting their courses and prospective students are introduced to TUWEL — the central e-learning platform of TU Wien — by the TUWEL team. The most important TUWEL information and functions are presented during a short introductory event:    - What is TUWEL?    - How do I log in?    - What can I do with TUWEL?    - Which courses are supported by a TUWEL course?    - How do I take part in an e-learning course in TUWEL?
DTEND;TZID=Europe/Vienna:20230306T163000
DTSTAMP:20260419T132316Z
DTSTART;TZID=Europe/Vienna:20230306T160000
ORGANIZER:TUWEL - zentrale Lernplattform der TU Wien
SUMMARY:Getting started with TUWEL (date 1,english)
UID:ee4f8664-0b50-46f6-a8af-2f891580f9f6
URL:https://events.htu.at/events/ee4f8664-0b50-46f6-a8af-2f891580f9f6
END:VEVENT
BEGIN:VEVENT
CATEGORIES:TUWEL,e-learning
DESCRIPTION:Das TUWEL Team der TU Wien möchte StudienbeginnerInnen und Studieninteressierten TUWEL - die zentrale E-Learning Plattform der TU Wien - vorstellen. Während einer kurzen Einführungsveranstaltung werden die wichtigsten Informationen und Funktionen von TUWEL präsentiert:    - Was ist TUWEL eigentlich?    - Wie logge ich mich ein?    - Was kann ich mit TUWEL alles machen?    - Welche Lehrveranstaltungen werden durch einen TUWEL Kurs unterstützt?    - Wie nehme ich an einem E-Learning Kurs in TUWEL teil?
DTEND;TZID=Europe/Vienna:20230307T163000
DTSTAMP:20260419T132316Z
DTSTART;TZID=Europe/Vienna:20230307T160000
ORGANIZER:TUWEL - zentrale Lernplattform der TU Wien
SUMMARY:Mein Start mit TUWEL (Termin 2, deutsch)
UID:a43ad363-cc06-4189-8efb-9ca0ea49662d
URL:https://events.htu.at/events/a43ad363-cc06-4189-8efb-9ca0ea49662d
END:VEVENT
BEGIN:VEVENT
CATEGORIES:online Lernen,TUWEL,E-Learning
DESCRIPTION:Those just starting their courses and prospective students are introduced to TUWEL — the central e-learning platform of TU Wien — by the TUWEL team. The most important TUWEL information and functions are presented during a short introductory event:What is TUWEL?How do I log in?What can I do with TUWEL?Which courses are supported by a TUWEL course?How do I take part in an e-learning course in TUWEL?Zoom link on website!
DTEND;TZID=Europe/Vienna:20231003T163000
DTSTAMP:20260419T132316Z
DTSTART;TZID=Europe/Vienna:20231003T160000
ORGANIZER:TUWEL - zentrale Lernplattform der TU Wien
SUMMARY:Getting started with TUWEL (date 1, english)
UID:74936cd8-2989-437f-a46a-caf478038a72
URL:https://events.htu.at/events/74936cd8-2989-437f-a46a-caf478038a72
END:VEVENT
BEGIN:VEVENT
CATEGORIES:TUWEL,E-Learning,online Lernen
DESCRIPTION:Das TUWEL Team der TU Wien möchte StudienbeginnerInnen und Studieninteressierten TUWEL - die zentrale E-Learning Plattform der TU Wien - vorstellen. Während einer kurzen Einführungsveranstaltung werden die wichtigsten Informationen und Funktionen von TUWEL präsentiert: Was ist TUWEL eigentlich?Wie logge ich mich ein?Was kann ich mit TUWEL alles machen?Welche Lehrveranstaltungen werden durch einen TUWEL Kurs unterstützt?Wie nehme ich an einem E-Learning Kurs in TUWEL teil?Zoom Link auf Webseite!
DTEND;TZID=Europe/Vienna:20231004T173000
DTSTAMP:20260419T132316Z
DTSTART;TZID=Europe/Vienna:20231004T160000
ORGANIZER:TUWEL - zentrale Lernplattform der TU Wien
SUMMARY:Mein Start mit TUWEL (Termin 2, deutsch)
UID:f86d4af9-202f-48e3-8a04-40096833b043
URL:https://events.htu.at/events/f86d4af9-202f-48e3-8a04-40096833b043
END:VEVENT
BEGIN:VEVENT
DESCRIPTION:Those just starting their courses and prospective students are introduced to TUWEL — the central e-learning platform of TU Wien — by the TUWEL team. The most important TUWEL information and functions are presented during a short introductory event:    - What is TUWEL?    - How do I log in?    - What can I do with TUWEL?    - Which courses are supported by a TUWEL course?    - How do I take part in an e-learning course in TUWEL?
DTEND;TZID=Europe/Vienna:20240305T163000
DTSTAMP:20260419T132316Z
DTSTART;TZID=Europe/Vienna:20240305T160000
ORGANIZER:TUWEL - zentrale Lernplattform der TU Wien
SUMMARY:Getting started with TUWEL (date 1, english)
UID:1a95a5c0-42c8-422a-9add-2e875a853bb1
URL:https://events.htu.at/events/1a95a5c0-42c8-422a-9add-2e875a853bb1
END:VEVENT
BEGIN:VEVENT
CATEGORIES:TUWEL
DESCRIPTION:Das TUWEL Team der TU Wien möchte StudienbeginnerInnen und Studieninteressierten TUWEL - die zentrale E-Learning Plattform der TU Wien - vorstellen. Während einer kurzen Einführungsveranstaltung werden die wichtigsten Informationen und Funktionen von TUWEL präsentiert:    - Was ist TUWEL eigentlich?    - Wie logge ich mich ein?    - Was kann ich mit TUWEL alles machen?    - Welche Lehrveranstaltungen werden durch einen TUWEL Kurs unterstützt?    - Wie nehme ich an einem E-Learning Kurs in TUWEL teil?
DTEND;TZID=Europe/Vienna:20240306T163000
DTSTAMP:20260419T132316Z
DTSTART;TZID=Europe/Vienna:20240306T160000
ORGANIZER:TUWEL - zentrale Lernplattform der TU Wien
SUMMARY:Mein Start mit TUWEL (Termin 2, deutsch)
UID:ded112f7-bf20-4c56-a9a2-03c20800e5db
URL:https://events.htu.at/events/ded112f7-bf20-4c56-a9a2-03c20800e5db
END:VEVENT
BEGIN:VEVENT
CATEGORIES:TUWEL,Start,Studienbeginner_in
DESCRIPTION:Das TUWEL Team der TU Wien möchte StudienbeginnerInnen und Studieninteressierten TUWEL - die zentrale E-Learning Plattform der TU Wien - vorstellen. Während einer kurzen Einführungsveranstaltung werden die wichtigsten Informationen und Funktionen von TUWEL präsentiert:    - Was ist TUWEL eigentlich?    - Wie logge ich mich ein?    - Was kann ich mit TUWEL alles machen?    - Welche Lehrveranstaltungen werden durch einen TUWEL Kurs unterstützt?    - Wie nehme ich an einem E-Learning Kurs in TUWEL teil?
DTEND;TZID=Europe/Vienna:20241007T163000
DTSTAMP:20260419T132316Z
DTSTART;TZID=Europe/Vienna:20241007T160000
ORGANIZER:TUWEL - zentrale Lernplattform der TU Wien
SUMMARY:Mein Start mit TUWEL (Termin 1, deutsch)
UID:6f085d4f-9dee-46a1-bfbc-57c2c31e20f9
URL:https://events.htu.at/events/6f085d4f-9dee-46a1-bfbc-57c2c31e20f9
END:VEVENT
BEGIN:VEVENT
CATEGORIES:student beginner,TUWEL,start
DESCRIPTION:Those just starting their courses and prospective students are introduced to TUWEL — the central e-learning platform of TU Wien — by the TUWEL team. The most important TUWEL information and functions are presented during a short introductory event:    - What is TUWEL?    - How do I log in?    - What can I do with TUWEL?    - Which courses are supported by a TUWEL course?    - How do I take part in an e-learning course in TUWEL?
DTEND;TZID=Europe/Vienna:20241008T163000
DTSTAMP:20260419T132316Z
DTSTART;TZID=Europe/Vienna:20241008T160000
ORGANIZER:TUWEL - zentrale Lernplattform der TU Wien
SUMMARY:Getting started with TUWEL (date 2, english)
UID:408f066d-5168-4f7d-9ccb-6b41637ed469
URL:https://events.htu.at/events/408f066d-5168-4f7d-9ccb-6b41637ed469
END:VEVENT
BEGIN:VEVENT
CATEGORIES:TUWEL
DESCRIPTION:Während einer kurzen Einführungsveranstaltung werden die wichtigsten Informationen und Funktionen von TUWEL präsentiert:    - Was ist TUWEL eigentlich?    - Wie logge ich mich ein?    - Was kann ich mit TUWEL alles machen?    - Welche Lehrveranstaltungen werden durch einen TUWEL Kurs unterstützt?    - Wie nehme ich an einem E-Learning Kurs in TUWEL teil?
DTEND;TZID=Europe/Vienna:20250304T163000
DTSTAMP:20260419T132316Z
DTSTART;TZID=Europe/Vienna:20250304T160000
ORGANIZER:TUWEL - zentrale Lernplattform der TU Wien
SUMMARY:Mein Start mit TUWEL (Termin 1, deutsch)
UID:35592e1b-ea3b-491c-b1fb-04f315403fd1
URL:https://events.htu.at/events/35592e1b-ea3b-491c-b1fb-04f315403fd1
END:VEVENT
BEGIN:VEVENT
DESCRIPTION:Those just starting their courses and prospective students are introduced to TUWEL — the central e-learning platform of TU Wien — by the TUWEL team. The most important TUWEL information and functions are presented during a short introductory event:    - What is TUWEL?    - How do I log in?    - What can I do with TUWEL?    - Which courses are supported by a TUWEL course?    - How do I take part in an e-learning course in TUWEL?
DTEND;TZID=Europe/Vienna:20250305T163000
DTSTAMP:20260419T132316Z
DTSTART;TZID=Europe/Vienna:20250305T160000
ORGANIZER:TUWEL - zentrale Lernplattform der TU Wien
SUMMARY:Getting started with TUWEL (date 2, english)
UID:cf660c8b-ed8a-498b-81cb-72fa71d83556
URL:https://events.htu.at/events/cf660c8b-ed8a-498b-81cb-72fa71d83556
END:VEVENT
BEGIN:VEVENT
CATEGORIES:TUWEL
DESCRIPTION:Das TUWEL Team der TU Wien möchte StudienbeginnerInnen und Studieninteressierten TUWEL - die zentrale E-Learning Plattform der TU Wien - vorstellen.Während einer kurzen Einführungsveranstaltung werden die wichtigsten Informationen und Funktionen von TUWEL präsentiert:    - Was ist TUWEL eigentlich?    - Wie logge ich mich ein?    - Was kann ich mit TUWEL alles machen?    - Welche Lehrveranstaltungen werden durch einen TUWEL Kurs unterstützt?    - Wie nehme ich an einem E-Learning Kurs in TUWEL teil?
DTEND;TZID=Europe/Vienna:20251007T163000
DTSTAMP:20260419T132316Z
DTSTART;TZID=Europe/Vienna:20251007T160000
ORGANIZER:TUWEL - zentrale Lernplattform der TU Wien
SUMMARY:Mein Start mit TUWEL (Termin 1, deutsch)
UID:e45c0ec4-6ccb-4659-bd5a-3356185865f8
URL:https://events.htu.at/events/e45c0ec4-6ccb-4659-bd5a-3356185865f8
END:VEVENT
BEGIN:VEVENT
CATEGORIES:TUWEL
DESCRIPTION:Those just starting their courses and prospective students are introduced to TUWEL — the central e-learning platform of TU Wien — by the TUWEL team. The most important TUWEL information and functions are presented during a short introductory event:    - What is TUWEL?    - How do I log in?    - What can I do with TUWEL?    - Which courses are supported by a TUWEL course?    - How do I take part in an e-learning course in TUWEL?
DTEND;TZID=Europe/Vienna:20251008T163000
DTSTAMP:20260419T132316Z
DTSTART;TZID=Europe/Vienna:20251008T160000
ORGANIZER:TUWEL - zentrale Lernplattform der TU Wien
SUMMARY:Getting started with TUWEL (date 2, english)
UID:cdfb7cf5-94f1-4230-be34-1c6542667e03
URL:https://events.htu.at/events/cdfb7cf5-94f1-4230-be34-1c6542667e03
END:VEVENT
BEGIN:VEVENT
CATEGORIES:TUWEL
DESCRIPTION:Das TUWEL Team der TU Wien möchte StudienbeginnerInnen und Studieninteressierten TUWEL - die zentrale E-Learning Plattform der TU Wien - vorstellen.Während einer kurzen Einführungsveranstaltung werden die wichtigsten Informationen und Funktionen von TUWEL präsentiert:    - Was ist TUWEL eigentlich?    - Wie logge ich mich ein?    - Was kann ich mit TUWEL alles machen?    - Welche Lehrveranstaltungen werden durch einen TUWEL Kurs unterstützt?    - Wie nehme ich an einem E-Learning Kurs in TUWEL teil?
DTEND;TZID=Europe/Vienna:20260309T163000
DTSTAMP:20260419T132316Z
DTSTART;TZID=Europe/Vienna:20260309T160000
ORGANIZER:TUWEL - zentrale Lernplattform der TU Wien
SUMMARY:Mein Start mit TUWEL (Termin 1, deutsch)
UID:0ef0addb-8525-4859-ac32-29e7cc4c7b28
URL:https://events.htu.at/events/0ef0addb-8525-4859-ac32-29e7cc4c7b28
END:VEVENT
BEGIN:VEVENT
CATEGORIES:TUWEL
DESCRIPTION:Those just starting their courses and prospective students are introduced to TUWEL — the central e-learning platform of TU Wien — by the TUWEL team. The most important TUWEL information and functions are presented during a short introductory event:    - What is TUWEL?    - How do I log in?    - What can I do with TUWEL?    - Which courses are supported by a TUWEL course?    - How do I take part in an e-learning course in TUWEL?
DTEND;TZID=Europe/Vienna:20260310T163000
DTSTAMP:20260419T132316Z
DTSTART;TZID=Europe/Vienna:20260310T160000
ORGANIZER:TUWEL - zentrale Lernplattform der TU Wien
SUMMARY:Getting started with TUWEL (date 2, english)
UID:a2deac3c-d99d-4723-9c42-80bd2db5d92b
URL:https://events.htu.at/events/a2deac3c-d99d-4723-9c42-80bd2db5d92b
END:VEVENT
END:VCALENDAR
